BEGIN:VCALENDAR
VERSION:2.0
PRODID:-//Koalisi Rakyat untuk Kedaulatan Pangan - ECPv5.10.1//NONSGML v1.0//EN
CALSCALE:GREGORIAN
METHOD:PUBLISH
X-WR-CALNAME:Koalisi Rakyat untuk Kedaulatan Pangan
X-ORIGINAL-URL:https://kedaulatanpangan.org
X-WR-CALDESC:Events for Koalisi Rakyat untuk Kedaulatan Pangan
BEGIN:VTIMEZONE
TZID:Asia/Jakarta
BEGIN:STANDARD
TZOFFSETFROM:+0700
TZOFFSETTO:+0700
TZNAME:WIB
DTSTART:20200101T000000
END:STANDARD
END:VTIMEZONE
BEGIN:VEVENT
DTSTART;TZID=Asia/Jakarta:20200903T140000
DTEND;TZID=Asia/Jakarta:20200903T173000
DTSTAMP:20260419T212200
CREATED:20200901T053333Z
LAST-MODIFIED:20200908T093110Z
UID:1818-1599141600-1599154200@kedaulatanpangan.org
SUMMARY:Series Diskusi : Urgensi Kemitraan Multipihak Perberasan Nasional
DESCRIPTION:Diskusi Bersama Urgensi Kemitraan Multipihak Perberasan Nasional\nHai Sobat Pangan\,\nDi Indonesia\, beras menjadi komoditas penting yang dikembangkan dengan pendekatan sistem pangan berkelanjutan.\nNamun untuk mewujudkan sistem pangan berkelanjutan tidak mudah terutama untuk\nIndonesia karena fragmentasi masalah dan dilaksanakan pendekatan tunggal dalam\nkebijakan pangan dan pertanian. Sedangkan sistem pangan berkelanjutan memerlukan\npendekatan holistik karena sistem pangan berkelanjutan saling terintegrasi dan multi-\ndimensi.\nBerkaitan dengan hal tersebut diperlukan kerangka kerja (framework) yang melibatkan\nmultipihak dalam upaya mewujudkan sistem pangan berkelanjutan.\nUNEP dan IRRI pada 2011 membangun Platform Padi Berkelanjutan (Sustainable Rice\nPlatform atau SRP). SRP merupakan kemitraan multi-pihak untuk mendorong efisiensi\nsumber daya dan keberlanjutan\, termasuk petani\, swasta\, lembaga penelitian\, lembaga\nkeuangan\, dan lembaga nirlaba. Adapun tujuannya adalah untuk membantu petani padi\n(baik petani subsisten atau petani komersial) agar dapat berproduksi padi secara lebih\nefisien\, meningkatkan pendapatan\, serta menjaga lingkungan agar tetap sehat. Di Indonesia\, walaupun\nKementerian Pertanian menjadi anggotanya\, tetapi implementasinya masih jauh dari cukup.\nTerkait hal tersebut KRKP yang didukung oleh ICCO Cooperation mengadakan diskusi Series “Urgensi Kemitraan Multipihak Perberasan Nasional”\nTanggal : Kamis\, 3 September 2020\nJam : 14.00 WIB-Selesai\nVia Zoom Meeting\nLink daftar:\nKami tunggu kehadiran sobat pangan dalam diskusi ini\nKuota terbatas !!!\n\nTor dan Notulensi dan Materi dapat didownload
URL:https://kedaulatanpangan.org/event/series-diskusi-urgensi-kemitraan-multipihak-perberasan-nasional/
LOCATION:Zoom Meeting\, Indonesia
CATEGORIES:Meetings,Seminar,Workshop
ATTACH;FMTTYPE=image/jpeg:https://kedaulatanpangan.org/wp-content/uploads/2020/09/poster-srp-tgl-3-september-terbaru-01-scaled.jpg
END:VEVENT
BEGIN:VEVENT
DTSTART;TZID=Asia/Jakarta:20200831T140000
DTEND;TZID=Asia/Jakarta:20200831T170000
DTSTAMP:20260419T212200
CREATED:20200908T101240Z
LAST-MODIFIED:20200908T101240Z
UID:1838-1598882400-1598893200@kedaulatanpangan.org
SUMMARY:Series Diskusi: Urgensi Kemitraan Multipihak Perberasan Nasional Bersama Partai Politik
DESCRIPTION:Aktor yang terlibat dalam pemenuhan pangan beras tidak hanya petani\, distributor\, dan\nkonsumen\, melainkan terdapat petani\, pengepul\, perusahaan processing\, distributor\,\npengecer\, serta pemerintah sebelum akhirnya sampai ke konsumen. Dari banyaknya\naktor yang berperan\, pemerintah sebagai penyelenggara pemenuhan pangan beras\nharus bisa mengelola relasi antar aktor di atas berjalan dengan baik\, serta trasnparan\ndan saling membesarkan.\nNamun demikian tidak hanya pemerintah yang bisa mengemban amanah tersebut\,\nprivate sectore atau pihak swasta pun bisa membesarkan setiap aktor dalam rantai\npenyedia pangan beras. Seperti yang tercantum dalan Pilar Business on Human Rights\nyang dikeluarkan oleh UNGP bahwa sektor privat atau perusahaan harus melindungi hak\nasasi manusia dalam menjalankan bisnis.\nBerkaitan dengan hal tersebut diperlukan kerangka kerja (framework) yang melibatkan\nmultipihak dalam upaya mewujudkan sistem pemenuhan pangan secara berkelanjutan\nyang adil dan melindungi hak asasi manusia.\nHari ini KRKP mengadakan Series Diskusi Urgensi Kemitraan Multipihak Perberasan Nasional bersama Private Sektor dan Partai Politik.\nMateri dan Notulensi Acara dapat di Download disini
URL:https://kedaulatanpangan.org/event/series-diskusi-urgensi-kemitraan-multipihak-perberasan-nasional-bersama-partai-politik/
LOCATION:Zoom Meeting\, Indonesia
CATEGORIES:FGD,Seminar,Workshop
ATTACH;FMTTYPE=image/jpeg:https://kedaulatanpangan.org/wp-content/uploads/2020/09/WhatsApp-Image-2020-08-28-at-15.45.22.jpeg
END:VEVENT
BEGIN:VEVENT
DTSTART;TZID=Asia/Jakarta:20200813T190000
DTEND;TZID=Asia/Jakarta:20200813T213000
DTSTAMP:20260419T212200
CREATED:20200812T161215Z
LAST-MODIFIED:20200813T044944Z
UID:1795-1597345200-1597354200@kedaulatanpangan.org
SUMMARY:Obrolin Pangan #15 : Geliat Petani dalam Peningkatan Akses Pasar
DESCRIPTION:Pangan merupakan hak asasi bagi semua warga negara. Pemenuhan pangan menjadi\ntanggung jawab negara sebagai bagian dari hak ekonomi\, sosial dan budaya. Termasuk\njuga dalam proses penyediaan pangan\, negara harus melindungi setiap aktor agar tidak\nterjadi pelanggaran HAM. Dalam penyediaan pangan di negara ini\, terdapat banyak aktor\nyang bergeliat. Mulai dari petani\, pengepul\, perusahaan processing\, distributor\, dan\nsampai di pengecer yang kemudian menyalurkan ke konsumen \n.Kajian Koalisi Rakyat untuk Kedaulatan Pangan (KRKP) tentang akses pasar petani\,\nmenunjukkan terdapat urgensi untuk meningkatkan akses petani terhadap pasar sebagai salah\nsatu implementasi Business on Human Rights yang dikeluarkan oleh UNGP. Urgensi ini juga\nmerupakan mandat dalam mewujudkan kedaulatan pangan di Indonesia. Sinergi berbagai\npemangku kepentingan baik petani\, sektor private dan pemerintah sangat dibutuhkan dalam\nmewujudkan akses pasar yang berkeadilan bagi petani. \nDownload TOR dan Notulensi Disini  \n\nNotulensi dan Materi akan tersedia maksimal dua hari setelah kegiatan berlangsung
URL:https://kedaulatanpangan.org/event/obrolin-pangan-15-geliat-petani-dalam-peningkatan-akses-pasar/
CATEGORIES:Seminar
ATTACH;FMTTYPE=image/jpeg:https://kedaulatanpangan.org/wp-content/uploads/2020/08/poster-opang-ke-15-01-scaled.jpg
END:VEVENT
END:VCALENDAR