BEGIN:VCALENDAR
VERSION:2.0
PRODID:-//Koalisi Rakyat untuk Kedaulatan Pangan - ECPv5.10.1//NONSGML v1.0//EN
CALSCALE:GREGORIAN
METHOD:PUBLISH
X-WR-CALNAME:Koalisi Rakyat untuk Kedaulatan Pangan
X-ORIGINAL-URL:https://kedaulatanpangan.org
X-WR-CALDESC:Events for Koalisi Rakyat untuk Kedaulatan Pangan
BEGIN:VTIMEZONE
TZID:Asia/Jakarta
BEGIN:STANDARD
TZOFFSETFROM:+0700
TZOFFSETTO:+0700
TZNAME:WIB
DTSTART:20200101T000000
END:STANDARD
END:VTIMEZONE
BEGIN:VEVENT
DTSTART;VALUE=DATE:20200426
DTEND;VALUE=DATE:20200527
DTSTAMP:20260420T011238
CREATED:20200426T055939Z
LAST-MODIFIED:20201024T130432Z
UID:1449-1587859200-1590537599@kedaulatanpangan.org
SUMMARY:Buy One Give Ones
DESCRIPTION:Halo sobat pangan.\nKalau selama ini ketika belanja kenal banget dengan istilah Buy One Get One\, nah sekarang saatnya Buy One Give One.\nKoalisi Rakyat Untuk Kedaulatan Pangan berkolaborasi dengan Tani Center IPB membuat Program Buy One Give One.\nGimana caranya? Sobat bisa cek di post berikut dan hubungin narahubung kami.\nAtau sobat hanya ingin berdonasi saja? Hal tersebut juga bisa.\nMelalui program BuyOneGiveOne ini mari membantu kelompok rentan kota untuk mendapatkan hak atas pangan dan juga membantu petani mendistribusikan hasil panennya. —–\nMari mulai dari kita untuk diri kita dan sekitar dengan Buy One Give One\n.\n.\n. \n#BuyOneGiveOne #SistemPanganKomunitas #CadanganPanganKomunitas #HakAtasPangan #PetaniVSCovid19 #PetaniPejuangPangan #PetaniGardaDepan #PetaniDiGardaDepanPangan #FoodFrontLiners #GardaPanganTerdepan #KedaulatanPangan #FoodSovereignty #KedaulatanPetani #KRKP#TaniCenter#IPB#IPBUniversity
URL:https://kedaulatanpangan.org/event/buy-one-give-one/
CATEGORIES:Tanggap krisis
ATTACH;FMTTYPE=image/jpeg:https://kedaulatanpangan.org/wp-content/uploads/2020/04/WhatsApp-Image-2020-04-25-at-10.59.55-PM.jpeg
ORGANIZER;CN="KRKP":MAILTO:info@kedaulatanpangan.org
END:VEVENT
END:VCALENDAR