BEGIN:VCALENDAR
VERSION:2.0
PRODID:-//Koalisi Rakyat untuk Kedaulatan Pangan - ECPv5.10.1//NONSGML v1.0//EN
CALSCALE:GREGORIAN
METHOD:PUBLISH
X-WR-CALNAME:Koalisi Rakyat untuk Kedaulatan Pangan
X-ORIGINAL-URL:https://kedaulatanpangan.org
X-WR-CALDESC:Events for Koalisi Rakyat untuk Kedaulatan Pangan
BEGIN:VTIMEZONE
TZID:Asia/Jakarta
BEGIN:STANDARD
TZOFFSETFROM:+0700
TZOFFSETTO:+0700
TZNAME:WIB
DTSTART:20210101T000000
END:STANDARD
END:VTIMEZONE
BEGIN:VEVENT
DTSTART;TZID=Asia/Jakarta:20210208T080000
DTEND;TZID=Asia/Jakarta:20210208T120000
DTSTAMP:20260419T220348
CREATED:20210202T074925Z
LAST-MODIFIED:20210215T041212Z
UID:2138-1612771200-1612785600@kedaulatanpangan.org
SUMMARY:Obrolin Pangan Special Edition: Food Sovereignty in The Pandemic Era
DESCRIPTION:Halo sobat pangan!!! \nApa kalian tahu bahwa pada akhir Januari 2021\, lebih dari satu juta orang dipastikan mengidap COVID-19 di Indonesia\, angka infeksi tertinggi di Asia Tenggara? Australia juga telah mencatat lebih dari 28.000 kasus. Tentu saja\, jumlah kasus saja tidak cukup mewakili kehancuran dan gangguan yang menimpa perekonomian Australia dan Indonesia atau sistem yang menopangnya\, terutama yang berkaitan dengan pertanian dan pangan. \nBanyak data-data yang menunjukan mengenai kondisi pangan dan sistem pangan selama adanya pandemi. Terkait hal tesebut pada Obrolin Pangan Special Edition ini akan berdiskusi untuk mengeksplorasi bagaimana rantai nilai yang terlokalisasi dan terbentang dalam mengatasi pandemi\, memungkinkan hadirin untuk memahami realitas situasi di tingkat mikro dan makro pangan dalam mengejar kedaulatan pangan. \nmasa sih\, sobat pangan belum daftar? Yukk segera daftar Obrolan Pangan Special Edition: Food Sovereignty in The Pandemic Era di bit.ly/RegistrasiInternationalSeminar . Jangan sampai menyesal tidak ikut ngobrol bersama dengan para expert kali ini ya. \nSampai Jumpa di Obrolin Pangan !!!\n.\n.\n.\n#ObrolinPangan\n#IndonesiaFoodSystemSummit2021\n#SistemPangan \nNotulensi dan Materi dapat didownload disini
URL:https://kedaulatanpangan.org/event/obrolin-pangan-special-edition-food-sivereignty-in-the-pandemic-era/
LOCATION:Zoom Meeting\, Indonesia
CATEGORIES:Seminar
ATTACH;FMTTYPE=image/jpeg:https://kedaulatanpangan.org/wp-content/uploads/2021/02/WhatsApp-Image-2021-02-02-at-13.27.10-e1612251954117.jpeg
ORGANIZER;CN="KRKP":MAILTO:info@kedaulatanpangan.org
END:VEVENT
END:VCALENDAR