BEGIN:VCALENDAR
VERSION:2.0
PRODID:-//Koalisi Rakyat untuk Kedaulatan Pangan - ECPv5.10.1//NONSGML v1.0//EN
CALSCALE:GREGORIAN
METHOD:PUBLISH
X-WR-CALNAME:Koalisi Rakyat untuk Kedaulatan Pangan
X-ORIGINAL-URL:https://kedaulatanpangan.org
X-WR-CALDESC:Events for Koalisi Rakyat untuk Kedaulatan Pangan
BEGIN:VTIMEZONE
TZID:Asia/Jakarta
BEGIN:STANDARD
TZOFFSETFROM:+0700
TZOFFSETTO:+0700
TZNAME:WIB
DTSTART:20210101T000000
END:STANDARD
END:VTIMEZONE
BEGIN:VEVENT
DTSTART;TZID=Asia/Jakarta:20210211T160000
DTEND;TZID=Asia/Jakarta:20210211T180000
DTSTAMP:20260419T190510
CREATED:20210205T135011Z
LAST-MODIFIED:20210215T034215Z
UID:2148-1613059200-1613066400@kedaulatanpangan.org
SUMMARY:Obrolin Pangan Goes to Campus UGM: Pembaruan Sistem Pangan "Melihat Konsumsi Pangan dan Bagaimana Mendorong Kebijakan Pemerintah yang Pro terhadap Konsumsi Pangan Lokal"
DESCRIPTION:Pandemi covid 19 tidak hanya menunjukkan ancaman nyata pada persoalan pangan dan kesejahteraan. Namun juga memberikan pembelajaran penting tentang rentannya sistem pangan yang ada saat ini. Dalam memperbincangkan sistem pangan\, tidak dapat terlepas dari budaya mengkonsumsi pangan itu sendiri. \nBudaya mengkonsumsi kita sebenarnya memiliki aneka bahan pangan. Namun itu dulu\, saat ini konsumsi kita cenderung hanya pada beberapa bahan pangan saja\, misalnya beras. Perilaku mono-konsumsi ini bisa jadi memberikan andil dalam kerawanan pangan. Semua orang jadi tergantung hanya pada satu atau dua jenis pangan saja. Semua orang dapat berkompetisi dalam satu atau dua jenis pangan saja. Situasi ini bisa menjadi alarm bagi sistem pangan kita. \nKRKP bersama Laboratorium Riset dan Aksi Antropologi (LAURA) UGM didukung oleh Kurawal Foundation mengadakan diskusi bersama PEMBARUAN SISTEM PANGAN INDONESIA\n“Melihat Konsumsi Pangan dan Bagaimana Mendorong Kebijakan Pemerintah yang Pro terhadap Konsumsi Pangan Lokal ” \nYuuk Ngobrol bersama di Obrolin Pangan Goes to Campus UGM\, Kalian bisa registrasi di http://bit.ly/RegOGTCUGM \nSampai Jumpa sobat pangan\n.\n.\n.\n#ObrolinPanganGoesToCampus\n#IndonesiaFoodSystemSummit2021\n#SistemPangan \nMateri dan Notulensi dapat didownload disini  dan  download sertifikat disini ToR Kegiatan sebagai berikut:
URL:https://kedaulatanpangan.org/event/obrolin-pangan-goes-to-campus-ugm-pembaruan-sistem-pangan-melihat-konsumsi-pangan-dan-bagaimana-mendorong-kebijakan-pemerintah-yang-pro-terhadap-konsumsi-pangan-lokal/
LOCATION:Zoom Meeting\, Indonesia
CATEGORIES:Seminar
ATTACH;FMTTYPE=image/jpeg:https://kedaulatanpangan.org/wp-content/uploads/2021/02/WhatsApp-Image-2021-02-05-at-19.51.27.jpeg
ORGANIZER;CN="KRKP":MAILTO:info@kedaulatanpangan.org
END:VEVENT
END:VCALENDAR